BEGIN:VCALENDAR
VERSION:2.0
PRODID:-//University of Puerto Rico and the University of Texas MD Anderson Cancer Center - ECPv6.5.1//NONSGML v1.0//EN
CALSCALE:GREGORIAN
METHOD:PUBLISH
X-WR-CALNAME:University of Puerto Rico and the University of Texas MD Anderson Cancer Center
X-ORIGINAL-URL:https://uprmdacc.upr.edu
X-WR-CALDESC:Events for University of Puerto Rico and the University of Texas MD Anderson Cancer Center
REFRESH-INTERVAL;VALUE=DURATION:PT1H
X-Robots-Tag:noindex
X-PUBLISHED-TTL:PT1H
BEGIN:VTIMEZONE
TZID:America/Puerto_Rico
BEGIN:STANDARD
TZOFFSETFROM:-0400
TZOFFSETTO:-0400
TZNAME:AST
DTSTART:20230101T000000
END:STANDARD
END:VTIMEZONE
BEGIN:VEVENT
DTSTART;TZID=America/Puerto_Rico:20230728T080000
DTEND;TZID=America/Puerto_Rico:20230728T170000
DTSTAMP:20260421T164507
CREATED:20240923T100338Z
LAST-MODIFIED:20240923T100422Z
UID:7248-1690531200-1690563600@uprmdacc.upr.edu
SUMMARY:UPR/MD Anderson U54 Partnership 2023 Summer Research Experience
DESCRIPTION:Dear students: \nThe Research Education Core informs that our 2023 Summer Research Experience will be held at the University of Texas MD Anderson Cancer Center from June 5 to July 28\, 2023\, in Houston\, Texas.  \nOur program aims to: increase the number of Hispanic physicians\, scientists\, and physician-scientists (MD/PhD and MD/MPH) engaged in research on cancer\, cancer health disparities\, and infection-driven malignancies by implementing a Cancer Research Education didactic and research experiences targeted to students interested or already involved in healthcare.  \nThe UPR/MD Anderson U54 Partnership Summer Research Experience offers the University of Puerto Rico students’ college and medical trainees an opportunity to: explore biomedical research as it relates to cancer\, to gain firsthand experiences\, and mentorship in basic\, clinical\, or translational research alongside world-renowned faculty\, as well as to attend targeted institutional lectures\, and seminars. Some of the program benefits include: \n\nActive participation in the technical aspects of projects\, interpreting experimental data\, and presenting findings. \nMentorship: in the fundamentals of scientific research\, which include: the application of techniques\, experimental design\, and analysis\, as well as how to present and publish findings suitable for peer review. \nIntroduction to the clinical problems presented by cancer patients through time spent in clinical areas. \nNumerous opportunities: attend seminars and lecture series on a wide variety of research topics. \n\nReturn visits are offered to trainees demonstrating a sincere interest in biomedical research and an outstanding research ability during their visit.  \n To apply for the 2023 Summer Research Experience at MD Anderson; please access this link: U54 Partnership Summer Research Program  \nRemember\, as part of the application you must submit the following documents: \n\nCurriculum Vitae or Biosketch (in only 1 pdf document) \nAcademic Records (Student Transcript) \nMedical Students need a letter of “Good standing” from the Office of the Associate Dean for Student Affairs of the School of Medicine. Request contact is Mrs. Rosa Cruz\, Assistant Dean for Student Affairs of the School of Medicine\, at her email address rosa.cruz4@upr.edu. For more information\, you can contact her at 787-758-2525 x.1810. \nTwo letters of recommendation from professors and/or research mentors\, including full name and email. \nA personal statement why you want to participate in the Research experience at MD Anderson Cancer Center: what your future career goals are\, and if you are interested in pursuing an MD/PhD or MD/MPH career. (maximum 2 pages).\n\nAttached you will find a copy of the promotional material; the application period is open until January 23\, 2023.  If you have any questions\, please do not hesitate to contact REC Program Coordinator Yomarie Santiago Erazo by email: yomarie.santiago1@upr.edu or 787-758-2525 ext. 1722. \nPROMO 2023 SUMMER RESEARCH EXPERIENCE
URL:https://uprmdacc.upr.edu/index.php/event/upr-md-anderson-cancer-center-partnership-for-excellence-in-cancer-research/
END:VEVENT
END:VCALENDAR