BEGIN:VCALENDAR
VERSION:2.0
PRODID:-//University of Puerto Rico and the University of Texas MD Anderson Cancer Center - ECPv6.5.1//NONSGML v1.0//EN
CALSCALE:GREGORIAN
METHOD:PUBLISH
X-ORIGINAL-URL:https://uprmdacc.upr.edu
X-WR-CALDESC:Events for University of Puerto Rico and the University of Texas MD Anderson Cancer Center
REFRESH-INTERVAL;VALUE=DURATION:PT1H
X-Robots-Tag:noindex
X-PUBLISHED-TTL:PT1H
BEGIN:VTIMEZONE
TZID:America/Puerto_Rico
BEGIN:STANDARD
TZOFFSETFROM:-0400
TZOFFSETTO:-0400
TZNAME:AST
DTSTART:20250101T000000
END:STANDARD
END:VTIMEZONE
BEGIN:VEVENT
DTSTART;TZID=America/Puerto_Rico:20250519T090000
DTEND;TZID=America/Puerto_Rico:20250523T160000
DTSTAMP:20260422T151726
CREATED:20241210T102848Z
LAST-MODIFIED:20241210T102848Z
UID:7411-1747645200-1748016000@uprmdacc.upr.edu
SUMMARY:Research Education Core Advanced Topics in Cancer Research: Cancer Disparities in Puerto Rico
DESCRIPTION:PROMO 2cr 30 hr INTENSIVE COURSE May 19 23 2025
URL:https://uprmdacc.upr.edu/index.php/event/research-education-core-advanced-topics-in-cancer-research-cancer-disparities-in-puerto-rico/
CATEGORIES:Research Education Core,UPRMDACC
END:VEVENT
END:VCALENDAR